BEGIN:VCALENDAR
VERSION:2.0
PRODID:-//Burnett Catchment Care Association - ECPv6.15.20//NONSGML v1.0//EN
CALSCALE:GREGORIAN
METHOD:PUBLISH
X-ORIGINAL-URL:https://betterburnett.com
X-WR-CALDESC:Events for Burnett Catchment Care Association
REFRESH-INTERVAL;VALUE=DURATION:PT1H
X-Robots-Tag:noindex
X-PUBLISHED-TTL:PT1H
BEGIN:VTIMEZONE
TZID:Australia/Melbourne
BEGIN:STANDARD
TZOFFSETFROM:+1100
TZOFFSETTO:+1000
TZNAME:AEST
DTSTART:20180331T160000
END:STANDARD
BEGIN:DAYLIGHT
TZOFFSETFROM:+1000
TZOFFSETTO:+1100
TZNAME:AEDT
DTSTART:20181006T160000
END:DAYLIGHT
BEGIN:STANDARD
TZOFFSETFROM:+1100
TZOFFSETTO:+1000
TZNAME:AEST
DTSTART:20190406T160000
END:STANDARD
BEGIN:DAYLIGHT
TZOFFSETFROM:+1000
TZOFFSETTO:+1100
TZNAME:AEDT
DTSTART:20191005T160000
END:DAYLIGHT
BEGIN:STANDARD
TZOFFSETFROM:+1100
TZOFFSETTO:+1000
TZNAME:AEST
DTSTART:20200404T160000
END:STANDARD
BEGIN:DAYLIGHT
TZOFFSETFROM:+1000
TZOFFSETTO:+1100
TZNAME:AEDT
DTSTART:20201003T160000
END:DAYLIGHT
END:VTIMEZONE
BEGIN:VEVENT
DTSTART;TZID=Australia/Melbourne:20191126T083000
DTEND;TZID=Australia/Melbourne:20191126T120000
DTSTAMP:20260423T194019
CREATED:20191107T053022Z
LAST-MODIFIED:20191107T053022Z
UID:9725-1574757000-1574769600@betterburnett.com
SUMMARY:Gully Erosion Field Day
DESCRIPTION:
URL:https://betterburnett.com/event/gully-erosion-field-day/
CATEGORIES:Reef Alliance - Grazing,Reef Trust Grazing,Workshops
ATTACH;FMTTYPE=image/jpeg:https://betterburnett.com/wp-content/uploads/2019/11/2019_Soil-Con-Guidelines_workshop_Noonan.jpg
END:VEVENT
END:VCALENDAR