BEGIN:VCALENDAR
VERSION:2.0
PRODID:-//Burnett Catchment Care Association - ECPv6.15.20//NONSGML v1.0//EN
CALSCALE:GREGORIAN
METHOD:PUBLISH
X-WR-CALNAME:Burnett Catchment Care Association
X-ORIGINAL-URL:https://betterburnett.com
X-WR-CALDESC:Events for Burnett Catchment Care Association
REFRESH-INTERVAL;VALUE=DURATION:PT1H
X-Robots-Tag:noindex
X-PUBLISHED-TTL:PT1H
BEGIN:VTIMEZONE
TZID:Australia/Melbourne
BEGIN:STANDARD
TZOFFSETFROM:+1100
TZOFFSETTO:+1000
TZNAME:AEST
DTSTART:20180331T160000
END:STANDARD
BEGIN:DAYLIGHT
TZOFFSETFROM:+1000
TZOFFSETTO:+1100
TZNAME:AEDT
DTSTART:20181006T160000
END:DAYLIGHT
BEGIN:STANDARD
TZOFFSETFROM:+1100
TZOFFSETTO:+1000
TZNAME:AEST
DTSTART:20190406T160000
END:STANDARD
BEGIN:DAYLIGHT
TZOFFSETFROM:+1000
TZOFFSETTO:+1100
TZNAME:AEDT
DTSTART:20191005T160000
END:DAYLIGHT
BEGIN:STANDARD
TZOFFSETFROM:+1100
TZOFFSETTO:+1000
TZNAME:AEST
DTSTART:20200404T160000
END:STANDARD
BEGIN:DAYLIGHT
TZOFFSETFROM:+1000
TZOFFSETTO:+1100
TZNAME:AEDT
DTSTART:20201003T160000
END:DAYLIGHT
END:VTIMEZONE
BEGIN:VEVENT
DTSTART;TZID=Australia/Melbourne:20191009T082000
DTEND;TZID=Australia/Melbourne:20191011T123000
DTSTAMP:20260422T184713
CREATED:20190903T025920Z
LAST-MODIFIED:20190903T031359Z
UID:9539-1570609200-1570797000@betterburnett.com
SUMMARY:RCS Grazing Clinic - Biggenden
DESCRIPTION:To register download the registration form and return to Resource Consulting Services.
URL:https://betterburnett.com/event/rcs-grazing-clinic-biggenden/
CATEGORIES:NDRP,Reef Alliance - Grazing,Reef Trust Grazing,Workshops
ATTACH;FMTTYPE=image/jpeg:https://betterburnett.com/wp-content/uploads/2019/09/RCS_Biggenden_Flier.jpg
END:VEVENT
BEGIN:VEVENT
DTSTART;TZID=Australia/Melbourne:20191015T083000
DTEND;TZID=Australia/Melbourne:20191015T150000
DTSTAMP:20260422T184713
CREATED:20190603T015927Z
LAST-MODIFIED:20191011T014054Z
UID:9132-1571128200-1571151600@betterburnett.com
SUMMARY:Women in Agriculture Day - Mundubbera
DESCRIPTION:Celebrate International Rural Women’s Day together in Mundubbera!\n– Guest Speakers\n– Trade Stands\n– Connect with old and new friends\n– Raffle and Lucky Door Prizes \nTo register click here!!
URL:https://betterburnett.com/event/women-in-agriculture-day-mundubbera/
CATEGORIES:NDRP,Reef Alliance - Grazing
ATTACH;FMTTYPE=image/jpeg:https://betterburnett.com/wp-content/uploads/2019/06/2019-WAgs-Day-Program-151019.jpg
ORGANIZER;CN="Burnett Inland Economic Development Organisation":MAILTO:biedoadmin@burnett.net.au
END:VEVENT
END:VCALENDAR