BEGIN:VCALENDAR
VERSION:2.0
PRODID:-//Burnett Catchment Care Association - ECPv6.15.20//NONSGML v1.0//EN
CALSCALE:GREGORIAN
METHOD:PUBLISH
X-WR-CALNAME:Burnett Catchment Care Association
X-ORIGINAL-URL:https://betterburnett.com
X-WR-CALDESC:Events for Burnett Catchment Care Association
REFRESH-INTERVAL;VALUE=DURATION:PT1H
X-Robots-Tag:noindex
X-PUBLISHED-TTL:PT1H
BEGIN:VTIMEZONE
TZID:Australia/Melbourne
BEGIN:STANDARD
TZOFFSETFROM:+1100
TZOFFSETTO:+1000
TZNAME:AEST
DTSTART:20200404T160000
END:STANDARD
BEGIN:DAYLIGHT
TZOFFSETFROM:+1000
TZOFFSETTO:+1100
TZNAME:AEDT
DTSTART:20201003T160000
END:DAYLIGHT
BEGIN:STANDARD
TZOFFSETFROM:+1100
TZOFFSETTO:+1000
TZNAME:AEST
DTSTART:20210403T160000
END:STANDARD
BEGIN:DAYLIGHT
TZOFFSETFROM:+1000
TZOFFSETTO:+1100
TZNAME:AEDT
DTSTART:20211002T160000
END:DAYLIGHT
BEGIN:STANDARD
TZOFFSETFROM:+1100
TZOFFSETTO:+1000
TZNAME:AEST
DTSTART:20220402T160000
END:STANDARD
BEGIN:DAYLIGHT
TZOFFSETFROM:+1000
TZOFFSETTO:+1100
TZNAME:AEDT
DTSTART:20221001T160000
END:DAYLIGHT
BEGIN:STANDARD
TZOFFSETFROM:+1100
TZOFFSETTO:+1000
TZNAME:AEST
DTSTART:20230401T160000
END:STANDARD
BEGIN:DAYLIGHT
TZOFFSETFROM:+1000
TZOFFSETTO:+1100
TZNAME:AEDT
DTSTART:20230930T160000
END:DAYLIGHT
END:VTIMEZONE
BEGIN:VEVENT
DTSTART;TZID=Australia/Melbourne:20220512T090000
DTEND;TZID=Australia/Melbourne:20220512T133000
DTSTAMP:20260420T174108
CREATED:20220503T025914Z
LAST-MODIFIED:20220503T025914Z
UID:11779-1652346000-1652362200@betterburnett.com
SUMMARY:Mapping Workshop - Mundubbera
DESCRIPTION:
URL:https://betterburnett.com/event/mapping-workshop-mundubbera/
CATEGORIES:nlppmp
ATTACH;FMTTYPE=image/jpeg:https://betterburnett.com/wp-content/uploads/2022/05/Qld-Globe-flyer-new-date.jpg
END:VEVENT
BEGIN:VEVENT
DTSTART;TZID=Australia/Melbourne:20210317T083000
DTEND;TZID=Australia/Melbourne:20210317T133000
DTSTAMP:20260420T174108
CREATED:20210301T004953Z
LAST-MODIFIED:20210310T064839Z
UID:10751-1615969800-1615987800@betterburnett.com
SUMMARY:Mapping Workshop - Kingaroy
DESCRIPTION:
URL:https://betterburnett.com/event/mapping-workshop-kingaroy/
CATEGORIES:nlppmp
ATTACH;FMTTYPE=image/jpeg:https://betterburnett.com/wp-content/uploads/2021/03/Qld-Globe-Kingaroy_compresses.jpg
END:VEVENT
BEGIN:VEVENT
DTSTART;TZID=Australia/Melbourne:20210217T090000
DTEND;TZID=Australia/Melbourne:20210217T133000
DTSTAMP:20260420T174108
CREATED:20210127T003038Z
LAST-MODIFIED:20210127T005213Z
UID:10709-1613552400-1613568600@betterburnett.com
SUMMARY:Mapping Workshop - Monto
DESCRIPTION:
URL:https://betterburnett.com/event/mapping-workshop-monto/
CATEGORIES:nlppmp
ATTACH;FMTTYPE=image/jpeg:https://betterburnett.com/wp-content/uploads/2021/01/Qld-Globe-Monto-flyer-compressed-final.jpg
END:VEVENT
END:VCALENDAR