BEGIN:VCALENDAR
VERSION:2.0
PRODID:-//Burnett Catchment Care Association - ECPv6.15.20//NONSGML v1.0//EN
CALSCALE:GREGORIAN
METHOD:PUBLISH
X-ORIGINAL-URL:https://betterburnett.com
X-WR-CALDESC:Events for Burnett Catchment Care Association
REFRESH-INTERVAL;VALUE=DURATION:PT1H
X-Robots-Tag:noindex
X-PUBLISHED-TTL:PT1H
BEGIN:VTIMEZONE
TZID:Australia/Melbourne
BEGIN:STANDARD
TZOFFSETFROM:+1100
TZOFFSETTO:+1000
TZNAME:AEST
DTSTART:20220402T160000
END:STANDARD
BEGIN:DAYLIGHT
TZOFFSETFROM:+1000
TZOFFSETTO:+1100
TZNAME:AEDT
DTSTART:20221001T160000
END:DAYLIGHT
BEGIN:STANDARD
TZOFFSETFROM:+1100
TZOFFSETTO:+1000
TZNAME:AEST
DTSTART:20230401T160000
END:STANDARD
BEGIN:DAYLIGHT
TZOFFSETFROM:+1000
TZOFFSETTO:+1100
TZNAME:AEDT
DTSTART:20230930T160000
END:DAYLIGHT
BEGIN:STANDARD
TZOFFSETFROM:+1100
TZOFFSETTO:+1000
TZNAME:AEST
DTSTART:20240406T160000
END:STANDARD
BEGIN:DAYLIGHT
TZOFFSETFROM:+1000
TZOFFSETTO:+1100
TZNAME:AEDT
DTSTART:20241005T160000
END:DAYLIGHT
END:VTIMEZONE
BEGIN:VEVENT
DTSTART;TZID=Australia/Melbourne:20230609T093000
DTEND;TZID=Australia/Melbourne:20230609T113000
DTSTAMP:20260420T015741
CREATED:20230519T010205Z
LAST-MODIFIED:20230519T010205Z
UID:13050-1686303000-1686310200@betterburnett.com
SUMMARY:Koala Workshop - Nanango
DESCRIPTION:For more information and to register click here!!
URL:https://betterburnett.com/event/koala-workshop-nanango/
CATEGORIES:Burnett Koala Scats
ATTACH;FMTTYPE=image/jpeg:https://betterburnett.com/wp-content/uploads/2023/05/Header.jpg
END:VEVENT
BEGIN:VEVENT
DTSTART;TZID=Australia/Melbourne:20230608T140000
DTEND;TZID=Australia/Melbourne:20230608T153000
DTSTAMP:20260420T015741
CREATED:20230519T010025Z
LAST-MODIFIED:20230519T010025Z
UID:13048-1686232800-1686238200@betterburnett.com
SUMMARY:Koala Workshop - Kingaroy
DESCRIPTION:For more information and to register click here!!
URL:https://betterburnett.com/event/koala-workshop-kingaroy/
CATEGORIES:Burnett Koala Scats
ATTACH;FMTTYPE=image/jpeg:https://betterburnett.com/wp-content/uploads/2023/05/Header.jpg
END:VEVENT
BEGIN:VEVENT
DTSTART;TZID=Australia/Melbourne:20230608T090000
DTEND;TZID=Australia/Melbourne:20230608T103000
DTSTAMP:20260420T015741
CREATED:20230519T005859Z
LAST-MODIFIED:20230606T005602Z
UID:13046-1686214800-1686220200@betterburnett.com
SUMMARY:Koala Workshop - Gayndah
DESCRIPTION:For more information and to register click here!!
URL:https://betterburnett.com/event/koala-workshop-gayndah/
CATEGORIES:Burnett Koala Scats
ATTACH;FMTTYPE=image/jpeg:https://betterburnett.com/wp-content/uploads/2023/05/Header.jpg
END:VEVENT
BEGIN:VEVENT
DTSTART;TZID=Australia/Melbourne:20230607T100000
DTEND;TZID=Australia/Melbourne:20230607T120000
DTSTAMP:20260420T015741
CREATED:20230519T002629Z
LAST-MODIFIED:20230519T004723Z
UID:13038-1686132000-1686139200@betterburnett.com
SUMMARY:Koala Workshop - Goondicum Station\, Monto
DESCRIPTION:For more information and to register click here!!
URL:https://betterburnett.com/event/koala-workshop-goondicum-station-monto/
CATEGORIES:Burnett Koala Scats
ATTACH;FMTTYPE=image/jpeg:https://betterburnett.com/wp-content/uploads/2023/05/Header.jpg
END:VEVENT
END:VCALENDAR