BEGIN:VCALENDAR
VERSION:2.0
PRODID:-//Burnett Catchment Care Association - ECPv6.15.20//NONSGML v1.0//EN
CALSCALE:GREGORIAN
METHOD:PUBLISH
X-ORIGINAL-URL:https://betterburnett.com
X-WR-CALDESC:Events for Burnett Catchment Care Association
REFRESH-INTERVAL;VALUE=DURATION:PT1H
X-Robots-Tag:noindex
X-PUBLISHED-TTL:PT1H
BEGIN:VTIMEZONE
TZID:Australia/Melbourne
BEGIN:STANDARD
TZOFFSETFROM:+1100
TZOFFSETTO:+1000
TZNAME:AEST
DTSTART:20170401T160000
END:STANDARD
BEGIN:DAYLIGHT
TZOFFSETFROM:+1000
TZOFFSETTO:+1100
TZNAME:AEDT
DTSTART:20170930T160000
END:DAYLIGHT
BEGIN:STANDARD
TZOFFSETFROM:+1100
TZOFFSETTO:+1000
TZNAME:AEST
DTSTART:20180331T160000
END:STANDARD
BEGIN:DAYLIGHT
TZOFFSETFROM:+1000
TZOFFSETTO:+1100
TZNAME:AEDT
DTSTART:20181006T160000
END:DAYLIGHT
BEGIN:STANDARD
TZOFFSETFROM:+1100
TZOFFSETTO:+1000
TZNAME:AEST
DTSTART:20190406T160000
END:STANDARD
BEGIN:DAYLIGHT
TZOFFSETFROM:+1000
TZOFFSETTO:+1100
TZNAME:AEDT
DTSTART:20191005T160000
END:DAYLIGHT
END:VTIMEZONE
BEGIN:VEVENT
DTSTART;TZID=Australia/Melbourne:20180501T090000
DTEND;TZID=Australia/Melbourne:20180501T120000
DTSTAMP:20260425T063858
CREATED:20180416T002049Z
LAST-MODIFIED:20180416T003552Z
UID:7786-1525165200-1525176000@betterburnett.com
SUMMARY:Fundamentals of Farm Management - Wondai
DESCRIPTION:All decision makers in your farming enterprise are encouraged to attend!!
URL:https://betterburnett.com/event/fundamentals-of-farm-management-wondai/
CATEGORIES:Better Catchments
ATTACH;FMTTYPE=image/jpeg:https://betterburnett.com/wp-content/uploads/2018/04/2018_Risk-Managment-Workshop_May-2018_Wondai_KMEdits-page-001.jpg
ORGANIZER;CN="Burnett Catchment Care Association":MAILTO:admin@burnettcatchment.org
END:VEVENT
BEGIN:VEVENT
DTSTART;TZID=Australia/Melbourne:20180501T173000
DTEND;TZID=Australia/Melbourne:20180501T210000
DTSTAMP:20260425T063858
CREATED:20180416T001630Z
LAST-MODIFIED:20180416T001710Z
UID:7780-1525195800-1525208400@betterburnett.com
SUMMARY:Fundamentals of Farm Management - Mundubbera
DESCRIPTION:All decision makers in your farming enterprise are encouraged to attend!!
URL:https://betterburnett.com/event/fundamentals-of-farm-management/
CATEGORIES:Better Catchments
ATTACH;FMTTYPE=image/jpeg:https://betterburnett.com/wp-content/uploads/2018/04/2018_Risk-Managment-Workshop_May-2018_Mundubbera_KMEdits-page-001.jpg
ORGANIZER;CN="Burnett Catchment Care Association":MAILTO:admin@burnettcatchment.org
END:VEVENT
END:VCALENDAR