BEGIN:VCALENDAR
VERSION:2.0
PRODID:-//Burnett Catchment Care Association - ECPv6.15.20//NONSGML v1.0//EN
CALSCALE:GREGORIAN
METHOD:PUBLISH
X-WR-CALNAME:Burnett Catchment Care Association
X-ORIGINAL-URL:https://betterburnett.com
X-WR-CALDESC:Events for Burnett Catchment Care Association
REFRESH-INTERVAL;VALUE=DURATION:PT1H
X-Robots-Tag:noindex
X-PUBLISHED-TTL:PT1H
BEGIN:VTIMEZONE
TZID:Australia/Melbourne
BEGIN:STANDARD
TZOFFSETFROM:+1100
TZOFFSETTO:+1000
TZNAME:AEST
DTSTART:20170401T160000
END:STANDARD
BEGIN:DAYLIGHT
TZOFFSETFROM:+1000
TZOFFSETTO:+1100
TZNAME:AEDT
DTSTART:20170930T160000
END:DAYLIGHT
BEGIN:STANDARD
TZOFFSETFROM:+1100
TZOFFSETTO:+1000
TZNAME:AEST
DTSTART:20180331T160000
END:STANDARD
BEGIN:DAYLIGHT
TZOFFSETFROM:+1000
TZOFFSETTO:+1100
TZNAME:AEDT
DTSTART:20181006T160000
END:DAYLIGHT
BEGIN:STANDARD
TZOFFSETFROM:+1100
TZOFFSETTO:+1000
TZNAME:AEST
DTSTART:20190406T160000
END:STANDARD
BEGIN:DAYLIGHT
TZOFFSETFROM:+1000
TZOFFSETTO:+1100
TZNAME:AEDT
DTSTART:20191005T160000
END:DAYLIGHT
END:VTIMEZONE
BEGIN:VEVENT
DTSTART;TZID=Australia/Melbourne:20180413T090000
DTEND;TZID=Australia/Melbourne:20180413T150000
DTSTAMP:20260425T063512
CREATED:20180305T014311Z
LAST-MODIFIED:20180305T014401Z
UID:7629-1523610000-1523631600@betterburnett.com
SUMMARY:Native Forest - Management & Demo Day - Gayndah
DESCRIPTION:Topics for the day will cover: \n\nThe latest update on Legislation\, Code of Practice\, Trigger Maps\, & Notification of a Forest Practice\nCurrent timber products and what they are worth\nLatest growth results from a series of 10yo regrowth thinned trials\nCompare growth data and regrowth control\nOptimal tree stocking— selecting the best trees to retain for grazing and timber production\nDemonstration site visit within Bambling property\nFire management\n\nWear sunsmart clothing\, don’t forget a hat and bring a chair and lunch\, morning tea provided. \nTo register your interest call: 5483 6535\n \nDirections: Arthur Bambling’s property – Penwhaupell Road\, Gayndah – Approx 38km from Gayndah\, follow Wigton Road\, left into the Gayndah Hivesville Road\, left into Penwhaupell Road (Google says Aranbanga Rd)
URL:https://betterburnett.com/event/native-forest-management-demo-day/
CATEGORIES:Better Catchments
ATTACH;FMTTYPE=image/jpeg:https://betterburnett.com/wp-content/uploads/2018/01/pfsq_field_day.jpg
END:VEVENT
END:VCALENDAR