BEGIN:VCALENDAR
VERSION:2.0
PRODID:-//Burnett Catchment Care Association - ECPv6.15.20//NONSGML v1.0//EN
CALSCALE:GREGORIAN
METHOD:PUBLISH
X-ORIGINAL-URL:https://betterburnett.com
X-WR-CALDESC:Events for Burnett Catchment Care Association
REFRESH-INTERVAL;VALUE=DURATION:PT1H
X-Robots-Tag:noindex
X-PUBLISHED-TTL:PT1H
BEGIN:VTIMEZONE
TZID:Australia/Melbourne
BEGIN:STANDARD
TZOFFSETFROM:+1100
TZOFFSETTO:+1000
TZNAME:AEST
DTSTART:20170401T160000
END:STANDARD
BEGIN:DAYLIGHT
TZOFFSETFROM:+1000
TZOFFSETTO:+1100
TZNAME:AEDT
DTSTART:20170930T160000
END:DAYLIGHT
BEGIN:STANDARD
TZOFFSETFROM:+1100
TZOFFSETTO:+1000
TZNAME:AEST
DTSTART:20180331T160000
END:STANDARD
BEGIN:DAYLIGHT
TZOFFSETFROM:+1000
TZOFFSETTO:+1100
TZNAME:AEDT
DTSTART:20181006T160000
END:DAYLIGHT
BEGIN:STANDARD
TZOFFSETFROM:+1100
TZOFFSETTO:+1000
TZNAME:AEST
DTSTART:20190406T160000
END:STANDARD
BEGIN:DAYLIGHT
TZOFFSETFROM:+1000
TZOFFSETTO:+1100
TZNAME:AEDT
DTSTART:20191005T160000
END:DAYLIGHT
END:VTIMEZONE
BEGIN:VEVENT
DTSTART;TZID=Australia/Melbourne:20180213T080000
DTEND;TZID=Australia/Melbourne:20180213T133000
DTSTAMP:20260425T080025
CREATED:20180103T034716Z
LAST-MODIFIED:20180115T231215Z
UID:7099-1518508800-1518528600@betterburnett.com
SUMMARY:Soil Pit Day - South Burnett
DESCRIPTION:Tuesday 13 February 8am – 11am & 867 Flagstone Creek Road\, Haly Creek \nTuesday 13 February 1.30am – 4.30pm @ John Allen’s Oakland Farm Property\, Sempfs Road Byee (Via Murgon) \nRSVP: 9 February 2018 to Melinda on 4166 3898 or email admin@burnettcatchment.org
URL:https://betterburnett.com/event/soil-pit-day-mundubbera/
CATEGORIES:Better Catchments
ATTACH;FMTTYPE=application/pdf:https://betterburnett.com/wp-content/uploads/2018/01/Soil-Pit-Field-Day__2017_MY.pdf
END:VEVENT
BEGIN:VEVENT
DTSTART;TZID=Australia/Melbourne:20180223T090000
DTEND;TZID=Australia/Melbourne:20180223T150000
DTSTAMP:20260425T080025
CREATED:20180130T033636Z
LAST-MODIFIED:20180226T045936Z
UID:7133-1519376400-1519398000@betterburnett.com
SUMMARY:Native Forestry Field Day - Childers
DESCRIPTION:
URL:https://betterburnett.com/event/native-forestry-field-day-childers/
CATEGORIES:Better Catchments
ATTACH;FMTTYPE=image/jpeg:https://betterburnett.com/wp-content/uploads/2018/01/pfsq_field_day.jpg
END:VEVENT
END:VCALENDAR