BEGIN:VCALENDAR
VERSION:2.0
PRODID:-//Burnett Catchment Care Association - ECPv6.15.20//NONSGML v1.0//EN
CALSCALE:GREGORIAN
METHOD:PUBLISH
X-ORIGINAL-URL:https://betterburnett.com
X-WR-CALDESC:Events for Burnett Catchment Care Association
REFRESH-INTERVAL;VALUE=DURATION:PT1H
X-Robots-Tag:noindex
X-PUBLISHED-TTL:PT1H
BEGIN:VTIMEZONE
TZID:Australia/Melbourne
BEGIN:STANDARD
TZOFFSETFROM:+1100
TZOFFSETTO:+1000
TZNAME:AEST
DTSTART:20150404T160000
END:STANDARD
BEGIN:DAYLIGHT
TZOFFSETFROM:+1000
TZOFFSETTO:+1100
TZNAME:AEDT
DTSTART:20151003T160000
END:DAYLIGHT
BEGIN:STANDARD
TZOFFSETFROM:+1100
TZOFFSETTO:+1000
TZNAME:AEST
DTSTART:20160402T160000
END:STANDARD
BEGIN:DAYLIGHT
TZOFFSETFROM:+1000
TZOFFSETTO:+1100
TZNAME:AEDT
DTSTART:20161001T160000
END:DAYLIGHT
BEGIN:STANDARD
TZOFFSETFROM:+1100
TZOFFSETTO:+1000
TZNAME:AEST
DTSTART:20170401T160000
END:STANDARD
BEGIN:DAYLIGHT
TZOFFSETFROM:+1000
TZOFFSETTO:+1100
TZNAME:AEDT
DTSTART:20170930T160000
END:DAYLIGHT
END:VTIMEZONE
BEGIN:VEVENT
DTSTART;TZID=Australia/Melbourne:20161210T090000
DTEND;TZID=Australia/Melbourne:20161210T170000
DTSTAMP:20260426T072920
CREATED:20161116T010416Z
LAST-MODIFIED:20161116T010416Z
UID:5842-1481360400-1481389200@betterburnett.com
SUMMARY:Native Forest Management & Harvesting Field Day
DESCRIPTION:The latest update on Legislation\, Code of Practice\, Trigger Maps & Notification of a Forest Practice\nCurrent timber products and what they are worth\nLatest growth results from a series of 10yo regrowth thinned trials\nCompare growth data\nOptimal tree stocking – selecting the best trees to retain for grazing and timber production\nA great MAPPING APP for your phone\nFire management
URL:https://betterburnett.com/event/native-forest-management-harvesting-field-day/
LOCATION:Charlie White’s Property\, Maryborough Rd\, Biggenden\, Queensland\, Australia
CATEGORIES:Better Catchments
ATTACH;FMTTYPE=image/jpeg:https://betterburnett.com/wp-content/uploads/2016/11/Biggenden-FD-10-DEC-2016-page-001.jpg
ORGANIZER;CN="Private Forestry Service Qld":MAILTO:pfsq@bigpond.com
END:VEVENT
BEGIN:VEVENT
DTSTART;VALUE=DATE:20161215
DTEND;VALUE=DATE:20161216
DTSTAMP:20260426T072920
CREATED:20161129T044050Z
LAST-MODIFIED:20161129T045251Z
UID:5976-1481760000-1481846399@betterburnett.com
SUMMARY:South Burnett Black Soils - Murgon & Kingaroy workshop
DESCRIPTION:If you are interested in understanding the Black soils and how they can be managed better come along to these workshops being held in either Murgon at 9amor Kingaroy at 2pm. \nFurther info & RSVP: Contact Ian Crosswaite ph: 0409 622 319 E: icrosthwaite@bgaagri.com.au\nor Wayne Seiler ph: 0429618488 E: wseiler@bgaagri.com.au \nBCCA will provide details on the Better Catchments Program\, with details on the Small funding grants*\, which will only be available to participants attending these workshops. \n* Funding grants will be limited and will be assessed and approved by a panel. Successful applicants will be required to sign a project agreement with Burnett Mary Regional Group.
URL:https://betterburnett.com/event/south-burnett-black-soils-murgon-kingaroy-workshop/
LOCATION:Murgon 9am & Kingaroy 2pm
CATEGORIES:Better Catchments
ATTACH;FMTTYPE=image/jpeg:https://betterburnett.com/wp-content/uploads/2016/11/BC_Cropping_Workshop1_2016-page-001.jpg
END:VEVENT
END:VCALENDAR